Workbook

Sheet Abrechnung
A1: Fussball- und Leichtathletikverband Westfalen e. V.
A7: Abrechnung von Wiederholungs- und Entscheidungsspielen (§ 70 SpO/WDFV)
A12: (zutreffendes bitte ankreuzen)
B13: Entscheidungsspiel (Kreis) | E13: Herren | H13: B-Junioren
A14: =IF(Auswertung!D11=1,"",Auswertung!A25)
E15: Frauen | H15: C-Junioren
I16: =IF(Auswertung!E11=1,"",Auswertung!A27) -> Bitte Überprüfen Sie Ihre Eingaben (es kann nur eine Altesklasse pro Abrechnungsblatt abgerechnet werden).
B17: Entscheidungsspiel (Verband) | E17: Alte Herren | H17: D-Junioren
E19: A-Junioren | H19: B-Juniorinnen
A21: Spielklasse:
A25: Datum des Spiels: | F25: Angaben zur Umsatzsteuerpflicht des Ausrichters (siehe Merkblatt):
A27: Heimverein: | G27: ="Umsatzsteuersatz "&Auswertung!A21&"%" -> Umsatzsteuersatz 19%
A29: Gastverein: | F29: Da der Verband/Kreis Ausrichter dieser Veranstaltung ist, besteht Umsatzsteuerpflicht. Der FLVW führt die Umsatzsteuer entsprechend seinen Verpflichtungen an das Finanzamt ab. Die anteiligen Einnahmen der beteiligten Vereine sind daher nicht steuerbar (siehe auch Merkblatt).
A31: Spielort (Platzverein):
A33: Ausrichtender Kreis/Verband: | C33: Ahaus-Coesfeld
A37: Spieleinnahme (Brutto) | F37: =IF(Auswertung!A11=1,"Kreis "&C33,"Verband/FLVW") -> Kreis Ahaus-Coesfeld | G37: =C27 -> 0 | H37: =C29 -> 0 | I37: =IF(C31="","",C31)
A38: =IF(Auswertung!A16=1,Auswertung!A33,IF(Auswertung!C16=1,Auswertung!A31,Auswertung!A35)) -> ./. Spieleinnahme x 15,97% = (19% Umsatzsteuer) | E38: =Auswertung!M8 -> 0 | F38: =E38 -> 0
A39: ="=Spieleinnahme (Netto)" -> =Spieleinnahme (Netto) | E39: =E37-E38 -> 0
A40: ="./. Platzgestellung "&Auswertung!G19&"%"&" (Platzverein)" -> ./. Platzgestellung 15% (Platzverein) | E40: =Auswertung!M12 -> 0 | I40: =E40 -> 0
A41: ="./. Schiedsrichter, Schiedsrichterassistenten lt. Belegen" -> ./. Schiedsrichter, Schiedsrichterassistenten lt. Belegen
A42: ="./. Reklamekosten lt. Beleg (max. 50 €)" -> ./. Reklamekosten lt. Beleg (max. 50 €) | I42: =E42 -> 0
A43: ="./. Fahrtkosten Heimverein" -> ./. Fahrtkosten Heimverein
A44: (Fahrtkosten für 18 Personen (billigstes Beförderungsmittel) | G44: =E44 -> 0
A45: ="./. Fahrtkosten Gastverein" -> ./. Fahrtkosten Gastverein
A46: (Fahrtkosten für 18 Personen (billigstes Beförderungsmittel) | H46: =E46 -> 0
A47: ="= Zwischensumme" -> = Zwischensumme | E47: =E39-E40-E41-E42-E44-E46 -> 0
A49: ="davon entfallen 1/3 auf "&C27 -> davon entfallen 1/3 auf | E49: =IF(E47<0.01,0,E47/3) -> 0 | G49: =E49 -> 0
A50: ="davon entfallen 1/3 auf "&C29 -> davon entfallen 1/3 auf | E50: =E49 -> 0 | H50: =E50 -> 0
A51: ="davon entfallen 1/3 auf den "&F37 -> davon entfallen 1/3 auf den Kreis Ahaus-Coesfeld | E51: =E49 -> 0 | F51: =E51 -> 0
F53: =(SUM(F38:F51)) -> 0 | G53: =SUM(G38:G51) -> 0 | H53: =SUM(H38:H51) -> 0 | I53: =SUM(I38:I51) -> 0 | J53: =SUM(J38:J51) -> 0 | K53: =SUM(K38:K51) -> 0
A56: Unterschrift Heimmannschaft | G56: Unterschrift Gastmannschaft
A58: Die Abrechnung ist von den beteiligten Vereinen gemeinsam durchzuführen und zu unterschreiben.
A60: Die Spielabrechnungen sind innerhalb von 5 Tagen durch den Platzverein, nach dem Spiel zu senden an:
A61: =IF(Auswertung!A11=1,Auswertung!A37,Auswertung!A39) -> Kreiskassierer des Kreises Ahaus-Coesfeld Tim Wesbuer (tim.wesbuer@flvw.de)
A62: Die Verbandsabgaben in Höhe von | D62: =F53 -> 0 | E62: =Auswertung!A47 -> werden durch die Kreiskasse des Kreises Ahaus-Coesfeld eingezogen.

Sheet Auswertung
A2: Herren | B2: Frauen | C2: A-Jun | D2: B-Jun | E2: C-Jun | F2: D-Jun | G2: B-Juniorinnen | H2: Alte Herren
A3: FALSE | B3: FALSE | C3: FALSE | D3: FALSE | E3: FALSE | F3: FALSE | G3: FALSE | H3: FALSE
A4: =IF(A3=TRUE,1,0) -> 0 | B4: =IF(B3=TRUE,1,0) -> 0 | C4: =IF(C3=TRUE,1,0) -> 0 | D4: =IF(D3=TRUE,1,0) -> 0 | E4: =IF(E3=TRUE,1,0) -> 0 | F4: =IF(F3=TRUE,1,0) -> 0 | G4: =IF(G3=TRUE,1,0) -> 0 | H4: =IF(H3=TRUE,1,0) -> 0
J6: Spieleinnahme | M6: =Abrechnung!E37 -> 0
J8: Umsatzsteuer | M8: =IF(A16=1,0,IF(C16=1,M6/E21*A21,M6/E20*A20)) -> 0
A9: Kreispokal | B9: Verbandspokal | D9: Summe Pokal | E9: Summe AK | G9: Fahrtkosten km
A10: TRUE | B10: FALSE | G10: 0.3 | J10: Spieleinnahme Netto | M10: =M6-M8 -> 0
A11: =IF(A10=TRUE,1,0) -> 1 | B11: =IF(B10=TRUE,1,0) -> 0 | D11: =A11+B11 -> 1 | E11: =SUM(A4:H4) -> 0
J12: Platzgestellung | M12: =M10*G19/100 -> 0
A14: Umsatzsteuer 0% | C14: Umsatzsteuer 19% | E14: Umsatzsteuer 7% | G14: Summe Ust
A15: TRUE | C15: TRUE | E15: FALSE | J15: Heimverein
A16: 0 | C16: =IF(C15=TRUE,1,0) -> 1 | E16: =IF(E15=TRUE,1,0) -> 0 | G16: =SUM(A16:F16) -> 1
J17: Gastverein
A18: Steuersätze | C18: Verbandsabgabe | E18: Brutto | G18: Platzgestellung
A19: 0 | C19: 10 | E19: =100+A19 -> 100 | G19: 15
A20: 7 | E20: =100+A20 -> 107
A21: 19 | E21: =100+A21 -> 119
A25: Bitte Überprüfen Sie Ihre Eingaben (es handelt sich entweder um ein Entscheidungsspiel auf Verbands- oder auf Kreisebene).
A27: Bitte Überprüfen Sie Ihre Eingaben (es kann nur eine Altesklasse pro Abrechnungsblatt abgerechnet werden).
A29: Bitte Überprüfen Sie Ihre Eingaben zur Umsatzsteuerpflicht
A31: ="./. Spieleinnahme x 15,97% = ("&A21&"% Umsatzsteuer)" -> ./. Spieleinnahme x 15,97% = (19% Umsatzsteuer)
A33: keine Umsatzsteuer
A35: =A20&"% Umsatzsteuer" -> 7% Umsatzsteuer
A37: ="Kreiskassierer des Kreises "&Abrechnung!C33 & " Tim Wesbuer (tim.wesbuer@flvw.de)" -> Kreiskassierer des Kreises Ahaus-Coesfeld Tim Wesbuer (tim.wesbuer@flvw.de)
A39: FLVW, Verbandsgeschäftsstelle, Jakob-Koenen-Str. 2, 59174 Kamen
A41: ="die Kreiskasse des Kreises "&Abrechnung!C33 -> die Kreiskasse des Kreises Ahaus-Coesfeld
A43: den FLVW, Sparkasse Kamen, IBAN: DE51 4435 0060 0005 0034 21, BIC: WELADED1UNN
A45: =IF(A11=1,"werden durch ","ssind innerhalb von 8 Tagen durch den Platzverein an ") -> werden durch
A47: =IF(A11=1,A45&A41&" eingezogen.",A45&A43&" zu überweisen") -> werden durch die Kreiskasse des Kreises Ahaus-Coesfeld eingezogen.

Sheet Merkblatt
A2: Besonderheiten bei Spielen mit Einnahmeteilung
A4: Bei Sportveranstaltungen auf eigenem Platz ist der Platzverein als Unternehmer anzusehen
A5: und mit den gesamten Veranstaltungseinnahmen zur USt heranzuziehen. Ist
A6: der Platzverein nicht umsatzsteuerpflichtig (z. B. Kleinunternehmer gem. § 19 UStG),
A7: entfällt die Umsatzsteuerpflicht aus diesen Veranstaltungseinnahmen auch für den
A8: beteiligten Gastverein. Der Gastverein hat die ihm aus dieser Veranstaltung zufließenden
A9: Beträge also nicht der USt zu unterwerfen (Abschnitt 16 Abs. 6 UStR).
A11: Bei Sportveranstaltungen auf fremdem Platz hat der mit der Durchführung der
A12: Veranstaltung und insbesondere mit der Erledigung der Kassengeschäfte und der
A13: Abrechnung beauftragte Verein als Unternehmer die gesamten Veranstaltungseinnahmen
A14: der USt zu unterwerfen, während der andere Verein den an ihn ausgezahlten
A15: Einnahmeanteil nicht der USt zu unterwerfen hat.
... A66: Quelle: DFB Steuerhandbuch 2009
